BEGIN:VCALENDAR
VERSION:2.0
PRODID:-//ChamberMaster//Event Calendar 2.0//EN
METHOD:PUBLISH
X-PUBLISHED-TTL:P3D
REFRESH-INTERVAL:P3D
CALSCALE:GREGORIAN
BEGIN:VEVENT
DTSTART:20141106T011500Z
DTEND:20141106T021500Z
X-MICROSOFT-CDO-ALLDAYEVENT:FALSE
SUMMARY:THE ART OF NETWORKING
DESCRIPTION:Does the thought of striking up a conversation with a stranger give you butterflies in your stomach? Come and learn how to engage your public with practical advice and conversation. This workshop will give you the tools to help you feel comfortable speaking about you and/or your business in any type of situation.
X-ALT-DESC;FMTTYPE=text/html:<p style="margin: 0in 0in 0pt\;"><span style="color: rgb(34\, 34\, 34)\; font-family: &quot\;Arial&quot\;\,&quot\;sans-serif&quot\;\; font-size: 9pt\;">Does the thought of striking up a conversation with a stranger give you butterflies in&nbsp\;your stomach? Come and learn how to engage your public with practical advice and conversation. This workshop&nbsp\;will give you the tools to help you feel comfortable speaking about you and/or your business&nbsp\;in any type of situation.</span></p>\n
LOCATION:Vacaville Chamber of Commerce 300 Main Street\, Suite A Vacaville\, CA 95687
UID:e.1559.1578
SEQUENCE:3
DTSTAMP:20260422T014533Z
URL:https://business.vacavillechamber.com/events/details/the-art-of-networking-11-05-2014-1578
END:VEVENT

END:VCALENDAR
