BEGIN:VCALENDAR
VERSION:2.0
PRODID:-//ChamberMaster//Event Calendar 2.0//EN
METHOD:PUBLISH
X-PUBLISHED-TTL:P3D
REFRESH-INTERVAL:P3D
CALSCALE:GREGORIAN
BEGIN:VEVENT
DTSTART:20160614T190000Z
DTEND:20160614T200000Z
X-MICROSOFT-CDO-ALLDAYEVENT:FALSE
SUMMARY:Technology Webinar
DESCRIPTION:Topic: Transforming Your Small Business Through New\, Affordable Technology from Microsoft
X-ALT-DESC;FMTTYPE=text/html:<span style="color: rgb(31\, 73\, 125)\; font-family: Calibri\, sans-serif\; font-size: 14.6667px\; line-height: normal\;">Topic: Transforming Your Small Business Through New\, Affordable Technology from Microsoft</span>
LOCATION:Webinar - http://bit.ly/1RSCFMG
UID:e.1559.1866
SEQUENCE:3
DTSTAMP:20260421T005553Z
URL:https://business.vacavillechamber.com/events/details/technology-webinar-06-14-2016-1866
END:VEVENT

END:VCALENDAR
