BEGIN:VCALENDAR
VERSION:2.0
PRODID:-//ChamberMaster//Event Calendar 2.0//EN
METHOD:PUBLISH
X-PUBLISHED-TTL:P3D
REFRESH-INTERVAL:P3D
CALSCALE:GREGORIAN
BEGIN:VEVENT
DTSTART:20180801T013000Z
DTEND:20180801T033000Z
X-MICROSOFT-CDO-ALLDAYEVENT:FALSE
SUMMARY:'Symphony of the Soil' film screening
DESCRIPTION:Symphony of the Soil explores the complexity and mystery of soil. Filmed on four continents and sharing the voices of some of the world's most esteemed soil scientists\, farmers and activists\, the film portrays soil as a protagonist of our planetary story. Using a captivating mix of art and science\, the film shows that soil is a complex living organism\, the foundation of life on earth. Sponsored by Peaceful World Foundation This film screening is part of Sustainable Solano's community Conversations program bringing inspiring speakers and film screenings to Solano county in an effort to open dialogue and guide community conversations about meaningful topics relevant to global and local sustainable practice\, conservation and social policy.
X-ALT-DESC;FMTTYPE=text/html:Symphony of the Soil explores the complexity and mystery of soil. Filmed on four continents and sharing the voices of some of the world&rsquo\;s most esteemed soil scientists\, farmers and activists\, the film portrays soil as a protagonist of our planetary story. Using a captivating mix of art and science\, the film shows that soil is a complex living organism\, the foundation of life on earth. Sponsored by Peaceful World Foundation This film screening is part of Sustainable Solano&#39\;s community Conversations program bringing inspiring speakers and film screenings to Solano county in an effort to open dialogue and guide community conversations about meaningful topics relevant to global and local sustainable practice\, conservation and social policy.
LOCATION:Vacaville Public Library- Cultural Center 1020 Ulatis Drive\, Vacaville
UID:e.1559.2895
SEQUENCE:3
DTSTAMP:20260419T173908Z
URL:https://business.vacavillechamber.com/events/details/symphony-of-the-soil-film-screening-2895
END:VEVENT

END:VCALENDAR
