BEGIN:VCALENDAR
VERSION:2.0
PRODID:-//ChamberMaster//Event Calendar 2.0//EN
METHOD:PUBLISH
X-PUBLISHED-TTL:P3D
REFRESH-INTERVAL:P3D
CALSCALE:GREGORIAN
BEGIN:VEVENT
DTSTART:20161217T170000Z
DTEND:20161218T000000Z
X-MICROSOFT-CDO-ALLDAYEVENT:FALSE
SUMMARY:Sweet Pea's Winter Wonderland Christmas Shopping & Craft Faire
DESCRIPTION:Celebrate the season with gifts for yourself or loved ones in this festive shopping experience featuring local artists. Shop for quality\, hand-crafted holiday d cor\, home goods\, jewelry\, bath and body product\, edibles and more all sold by the artists! This fair is not only for people but pets as well! \n\n\n\nChristmas Trees\, wreaths and living garland available for purchase.\n\n\n\nTerrific Shopping Awaits! Santa's Helpers have been hard at work to create an old time shopping market\, with over 30 exhibitors you're sure to find that special something\, including home d cor\, art\, antiques\, collectibles\, Jewelry\, crafts\, specialty items & gourmet foods! Sip on hot apple cider as you stroll aisle to aisle discovering treasures at each stop. We will have carolers\, elves with candy canes and Santa himself. \n\n\n\nPlease contact Noelle DeMartini if interested in being a Vendor at \n\n(707)474-9807 \n\nOr at succulentsbynoelle@gmail.com\n\nCurrent list of Vendors:\n\n\n\nSucculents by Noelle DeMartini\n\nEssential Oils by Teanna Fecht\n\nPaige Said So by Erica Page\n\nChalktomee Handwritten Signs\n\nBlue Ridge Organic Pomegranates\n\n@Shania's DIY \n\nMARY KAY \n\nTown Square Writers: Local Authors \n\nYoung Living Essential Oils \n\nGreen Visions Wine Therapy \n\nScentsy: Rachelle\n\nPerfectly Posh\n\nLuLaRoe: Marisol \n\nDamsel in Distress: Kim \n\nArbonne: Terri\n\nKeepsakes by Patricia\n\nHappy Home Soap Co\n\nKim Lavender Photos\n\nFlash Welch \n\nJamberry \n\nMetal art work by JB\n\nSucculent Creations by Kaylee Hoover\n\nUsborne Books & More\n\nPurLuvEssentials \n\nSpice Traders Teas\n\nDonna Lopez Inspire to Empower\n\nMystic Celt Crafts\n\nHarper Maddy Bows\n\nCastleburry Leather & Iron works\n\nMichele Z Designs hand made wreaths\n\nBarrel Boss\n\nMonica Rosales\n\nCrafts by Mary Murray\n\nSeeds for Wellness by Jody\n\nSolano Baking Company\n\nThe Craft Fairy\n\nAuthentic West Co\n\nSensational Soaps & Scrubs\n\nThirty One Gifts\n\nPaparazzi Jewelry : Ginger\n\nglitzy custom Ts\n\nInspire to empower\n\nFloating Flowers\n\nDawn Kincade Photography\n\nCandies Shop Bath & Body\n\nMan Cub Designs\n\nFour Seasons Wreaths by Nina\n\nAwaken Floral & Event Designer
X-ALT-DESC;FMTTYPE=text/html:<span style="color: rgb(75\, 79\, 86)\; font-family: Helvetica\, Arial\, sans-serif\; font-size: 14px\;">Celebrate the season with gifts for yourself or loved ones in this festive shopping experience featuring local artists. Shop for quality\, hand-crafted holiday d&eacute\;cor\, home goods\, jewelry\, bath and body product\, edibles and more all sold by the artists! This fair is not only for people but pets as well!&nbsp\;</span><br style="color: rgb(75\, 79\, 86)\; font-family: Helvetica\, Arial\, sans-serif\; font-size: 14px\;" />\n<br style="color: rgb(75\, 79\, 86)\; font-family: Helvetica\, Arial\, sans-serif\; font-size: 14px\;" />\n<span style="color: rgb(75\, 79\, 86)\; font-family: Helvetica\, Arial\, sans-serif\; font-size: 14px\;">Christmas Trees\, wreaths and living garland available for purchase.</span><br style="color: rgb(75\, 79\, 86)\; font-family: Helvetica\, Arial\, sans-serif\; font-size: 14px\;" />\n<br style="color: rgb(75\, 79\, 86)\; font-family: Helvetica\, Arial\, sans-serif\; font-size: 14px\;" />\n<span style="color: rgb(75\, 79\, 86)\; font-family: Helvetica\, Arial\, sans-serif\; font-size: 14px\;">Terrific Shopping Awaits! Santa&#39\;s Helpers have been hard at work to create an old time shopping market\, with over 30 exhibitors you&#39\;re sure to find that special something\, including home d&eacute\;cor\, art\, antiques\, collectibles\, Jewelry\, crafts\, specialty items &amp\; gourmet foods! Sip on hot apple cider as you stroll aisle to aisle discovering treasures</span><span class="text_exposed_show" style="display: inline\; color: rgb(75\, 79\, 86)\; font-family: Helvetica\, Arial\, sans-serif\; font-size: 14px\;">&nbsp\;at each stop. We will have carolers\, elves with candy canes and Santa himself.&nbsp\;<br />\n<br />\nPlease contact Noelle DeMartini if interested in being a Vendor at&nbsp\;<br />\n(707)474-9807&nbsp\;<br />\nOr at succulentsbynoelle@gmail.c<wbr />om<br />\nCurrent list of Vendors:<br />\n<br />\nSucculents by Noelle DeMartini<br />\nEssential Oils by Teanna Fecht<br />\nPaige Said So by Erica Page<br />\nChalktomee Handwritten Signs<br />\nBlue Ridge Organic Pomegranates<br />\n@Shania&#39\;s DIY&nbsp\;<br />\nMARY KAY&nbsp\;<br />\nTown Square Writers: Local Authors&nbsp\;<br />\nYoung Living Essential Oils&nbsp\;<br />\nGreen Visions Wine Therapy&nbsp\;<br />\nScentsy: Rachelle<br />\nPerfectly Posh<br />\nLuLaRoe: Marisol&nbsp\;<br />\nDamsel in Distress: Kim&nbsp\;<br />\nArbonne: Terri<br />\nKeepsakes by Patricia<br />\nHappy Home Soap Co<br />\nKim Lavender Photos<br />\nFlash Welch&nbsp\;<br />\nJamberry&nbsp\;<br />\nMetal art work by JB<br />\nSucculent Creations by Kaylee Hoover<br />\nUsborne Books &amp\; More<br />\nPurLuvEssentials&nbsp\;<br />\nSpice Traders Teas<br />\nDonna Lopez Inspire to Empower<br />\nMystic Celt Crafts<br />\nHarper Maddy Bows<br />\nCastleburry Leather &amp\; Iron works<br />\nMichele Z Designs hand made wreaths<br />\nBarrel Boss<br />\nMonica Rosales<br />\nCrafts by Mary Murray<br />\nSeeds for Wellness by Jody<br />\nSolano Baking Company<br />\nThe Craft Fairy<br />\nAuthentic West Co<br />\nSensational Soaps &amp\; Scrubs<br />\nThirty One Gifts<br />\nPaparazzi Jewelry : Ginger<br />\nglitzy custom Ts<br />\nInspire to empower<br />\nFloating Flowers<br />\nDawn Kincade Photography<br />\nCandies Shop Bath &amp\; Body<br />\nMan Cub Designs<br />\nFour Seasons Wreaths by Nina<br />\nAwaken Floral &amp\; Event Designer</span>
LOCATION:Sweet Peas's Boutique 891 Alamo Dr\, Vacaville
UID:e.1559.1936
SEQUENCE:3
DTSTAMP:20260420T173925Z
URL:https://business.vacavillechamber.com/events/details/sweet-pea-s-winter-wonderland-christmas-shopping-craft-faire-1936
END:VEVENT

END:VCALENDAR
