BEGIN:VCALENDAR
VERSION:2.0
PRODID:-//ChamberMaster//Event Calendar 2.0//EN
METHOD:PUBLISH
X-PUBLISHED-TTL:P3D
REFRESH-INTERVAL:P3D
CALSCALE:GREGORIAN
BEGIN:VEVENT
DTSTART:20181117T160000Z
DTEND:20181117T200000Z
X-MICROSOFT-CDO-ALLDAYEVENT:FALSE
SUMMARY:Super Saturday
DESCRIPTION:https://www.eventbrite.com/e/super-saturday-tickets-44566932896
X-ALT-DESC;FMTTYPE=text/html:https://www.eventbrite.com/e/super-saturday-tickets-44566932896
LOCATION:
UID:e.1559.2509
SEQUENCE:3
DTSTAMP:20260421T081807Z
URL:https://business.vacavillechamber.com/events/details/super-saturday-11-17-2018-2509
END:VEVENT

END:VCALENDAR
