BEGIN:VCALENDAR
VERSION:2.0
PRODID:-//ChamberMaster//Event Calendar 2.0//EN
METHOD:PUBLISH
X-PUBLISHED-TTL:P3D
REFRESH-INTERVAL:P3D
CALSCALE:GREGORIAN
BEGIN:VEVENT
DTSTART:20180915T150000Z
DTEND:20180915T190000Z
X-MICROSOFT-CDO-ALLDAYEVENT:FALSE
SUMMARY:Super Saturday
DESCRIPTION:https://www.eventbrite.com/e/super-saturday-tickets-44566932896
X-ALT-DESC;FMTTYPE=text/html:https://www.eventbrite.com/e/super-saturday-tickets-44566932896
LOCATION:
UID:e.1559.2507
SEQUENCE:3
DTSTAMP:20260419T130544Z
URL:https://business.vacavillechamber.com/events/details/super-saturday-09-15-2018-2507
END:VEVENT

END:VCALENDAR
