BEGIN:VCALENDAR
VERSION:2.0
PRODID:-//ChamberMaster//Event Calendar 2.0//EN
METHOD:PUBLISH
X-PUBLISHED-TTL:P3D
REFRESH-INTERVAL:P3D
CALSCALE:GREGORIAN
BEGIN:VEVENT
DTSTART:20260124T213000Z
DTEND:20260124T230000Z
X-MICROSOFT-CDO-ALLDAYEVENT:FALSE
SUMMARY:Sugar 'n Spice Tea...Dolls\, Dolls\, Dolls
DESCRIPTION:
X-ALT-DESC;FMTTYPE=text/html:
LOCATION:Saturday Club\, 175 W. Kendal St.\, Vacaville
UID:e.1559.6933
SEQUENCE:3
DTSTAMP:20260420T013850Z
URL:https://business.vacavillechamber.com/events/details/sugar-n-spice-tea-dolls-dolls-dolls-6933
END:VEVENT

END:VCALENDAR
