BEGIN:VCALENDAR
VERSION:2.0
PRODID:-//ChamberMaster//Event Calendar 2.0//EN
METHOD:PUBLISH
X-PUBLISHED-TTL:P3D
REFRESH-INTERVAL:P3D
CALSCALE:GREGORIAN
BEGIN:VEVENT
DTSTART:20180927T230000Z
DTEND:20180928T003000Z
X-MICROSOFT-CDO-ALLDAYEVENT:FALSE
SUMMARY:Statewide Ballot Issues Forum
DESCRIPTION:CalChamber will present overview of each statewide candidate race and initiative on the November 2018 ballot
X-ALT-DESC;FMTTYPE=text/html:CalChamber will present overview of each statewide candidate race and initiative on the November 2018 ballot
LOCATION:City of Fairfield Council Chambers 1000 Webster St Fairfield CA
UID:e.1559.2927
SEQUENCE:3
DTSTAMP:20260419T130404Z
URL:https://business.vacavillechamber.com/events/details/statewide-ballot-issues-forum-2927
END:VEVENT

END:VCALENDAR
