BEGIN:VCALENDAR
VERSION:2.0
PRODID:-//ChamberMaster//Event Calendar 2.0//EN
METHOD:PUBLISH
X-PUBLISHED-TTL:P3D
REFRESH-INTERVAL:P3D
CALSCALE:GREGORIAN
BEGIN:VEVENT
DTSTART:20160811T010000Z
DTEND:20160811T023000Z
X-MICROSOFT-CDO-ALLDAYEVENT:FALSE
SUMMARY:State Senate & Assembly Candidate Forum
DESCRIPTION:The Vacaville Chamber\, Fairfield-Suisun Chamber\, Northern Solano Association of Realtors\, and the Solano County Farm Bureau bring you State Senate District 3 and Assembly District 11 Candidate Forum
X-ALT-DESC;FMTTYPE=text/html:<span style="color: rgb(34\, 34\, 34)\; font-family: arial\, sans-serif\; font-size: 12.8px\; line-height: normal\;">The Vacaville Chamber\,&nbsp\;Fairfield-Suisun Chamber\, Northern Solano Association of Realtors\,</span><span style="color: rgb(34\, 34\, 34)\; font-family: arial\, sans-serif\; font-size: 12.8px\; line-height: normal\;">&nbsp\;and the Solano County Farm Bureau bring you&nbsp\;</span>State Senate District 3 and Assembly District 11 Candidate Forum
LOCATION:Travis Credit Union's Community Room 1 Travis Way\, Vacaville
UID:e.1559.1885
SEQUENCE:3
DTSTAMP:20260420T222152Z
URL:https://business.vacavillechamber.com/events/details/state-senate-assembly-candidate-forum-08-10-2016-1885
END:VEVENT

END:VCALENDAR
