BEGIN:VCALENDAR
VERSION:2.0
PRODID:-//ChamberMaster//Event Calendar 2.0//EN
METHOD:PUBLISH
X-PUBLISHED-TTL:P3D
REFRESH-INTERVAL:P3D
CALSCALE:GREGORIAN
BEGIN:VEVENT
DTSTART:20150410T160000Z
DTEND:20150410T170000Z
X-MICROSOFT-CDO-ALLDAYEVENT:FALSE
SUMMARY:State of the City presentation at Business Issues Educational Forum
DESCRIPTION:The Business Issues Educational Forum monitors\, evaluates and acts upon proposed city\, county\, and state issues which could effect the Vacaville business community. Join us on Friday\, April 10th for the State of the City presentation.
X-ALT-DESC;FMTTYPE=text/html:<p>The Business Issues Educational Forum monitors\, evaluates and acts upon proposed city\, county\, and state issues which could effect the Vacaville business community. Join us on Friday\, April 10th for the State of the City presentation.</p>\n
LOCATION:Community Room at Travis Credit Union Corporate Office. 1 Travis Way\, Vacaville\, CA 95688.
UID:e.1559.159
SEQUENCE:3
DTSTAMP:20260421T185352Z
URL:https://business.vacavillechamber.com/events/details/state-of-the-city-presentation-at-business-issues-educational-forum-04-10-2015-159
END:VEVENT

END:VCALENDAR
