BEGIN:VCALENDAR
VERSION:2.0
PRODID:-//ChamberMaster//Event Calendar 2.0//EN
METHOD:PUBLISH
X-PUBLISHED-TTL:P3D
REFRESH-INTERVAL:P3D
CALSCALE:GREGORIAN
BEGIN:VEVENT
DTSTART:20161111T010000Z
DTEND:20161111T020000Z
X-MICROSOFT-CDO-ALLDAYEVENT:FALSE
SUMMARY:Starbucks (Elmira & Nut Tree)-Ribbon Cutting
DESCRIPTION:Join us in welcoming the newest Starbucks to Vacaville and The Chamber.
X-ALT-DESC;FMTTYPE=text/html:Join us in welcoming the newest Starbucks to Vacaville and The Chamber.&nbsp\;
LOCATION:671 Elmira Road Vacaville\, CA 95687
UID:e.1559.1924
SEQUENCE:3
DTSTAMP:20260420T184644Z
URL:https://business.vacavillechamber.com/events/details/starbucks-elmira-nut-tree-ribbon-cutting-1924
END:VEVENT

END:VCALENDAR
