BEGIN:VCALENDAR
VERSION:2.0
PRODID:-//ChamberMaster//Event Calendar 2.0//EN
METHOD:PUBLISH
X-PUBLISHED-TTL:P3D
REFRESH-INTERVAL:P3D
CALSCALE:GREGORIAN
BEGIN:VEVENT
DTSTART:20161201T190000Z
DTEND:20161201T213000Z
X-MICROSOFT-CDO-ALLDAYEVENT:FALSE
SUMMARY:Spirit of Solano
DESCRIPTION:The luncheon will recognize Solano Chambers of Commerce and honor businesses which embody the true spirit of Solano County.\n\n\n\nLunch will be served at 11:45 am. RSVP no later than November 28\, 2016
X-ALT-DESC;FMTTYPE=text/html:The luncheon will recognize Solano Chambers of Commerce and honor businesses which embody the true spirit of Solano County.<br />\n<br />\nLunch will be served at 11:45 am. RSVP no later than November 28\, 2016
LOCATION:Hilton Garden Inn 2200 Gateway Court Fairfield\, CA 94533
UID:e.1559.1921
SEQUENCE:3
DTSTAMP:20260420T173204Z
URL:https://business.vacavillechamber.com/events/details/spirit-of-solano-1921
END:VEVENT

END:VCALENDAR
