BEGIN:VCALENDAR
VERSION:2.0
PRODID:-//ChamberMaster//Event Calendar 2.0//EN
METHOD:PUBLISH
X-PUBLISHED-TTL:P3D
REFRESH-INTERVAL:P3D
CALSCALE:GREGORIAN
BEGIN:VEVENT
DTSTART:20170810T223000Z
DTEND:20170811T000000Z
X-MICROSOFT-CDO-ALLDAYEVENT:FALSE
SUMMARY:Special Public Policy Forum
DESCRIPTION:The Business Issues Educational Forum monitors\, evaluates and acts upon proposed city\, county\, and state issues which could effect the Vacaville business community. This month's Forum features Congressman Garamendi\, Senator Dodd and Assemblymember Frazier.
X-ALT-DESC;FMTTYPE=text/html:<p>The Business Issues Educational Forum monitors\, evaluates and acts upon proposed city\, county\, and state issues which could effect the Vacaville business community. This month&#39\;s Forum features Congressman Garamendi\, Senator Dodd and Assemblymember Frazier.</p>\n
LOCATION:Community Room at Travis Credit Union Corporate Office. 1 Travis Way\, Vacaville\, CA 95688.
UID:e.1559.187
SEQUENCE:3
DTSTAMP:20260420T064612Z
URL:https://business.vacavillechamber.com/events/details/special-public-policy-forum-187
END:VEVENT

END:VCALENDAR
