BEGIN:VCALENDAR
VERSION:2.0
PRODID:-//ChamberMaster//Event Calendar 2.0//EN
METHOD:PUBLISH
X-PUBLISHED-TTL:P3D
REFRESH-INTERVAL:P3D
CALSCALE:GREGORIAN
BEGIN:VEVENT
DTSTART:20160219T200000Z
DTEND:20160222T020000Z
X-MICROSOFT-CDO-ALLDAYEVENT:FALSE
SUMMARY:Solano Home & Garden Show
DESCRIPTION:2016 Solano Home & Garden Show
X-ALT-DESC;FMTTYPE=text/html:2016 Solano Home &amp\; Garden Show
LOCATION:Dixon Fairgrounds 655 First Street Dixon\, California
UID:e.1559.1826
SEQUENCE:3
DTSTAMP:20260421T055023Z
URL:https://business.vacavillechamber.com/events/details/solano-home-garden-show-02-19-2016-1826
END:VEVENT

END:VCALENDAR
