BEGIN:VCALENDAR
VERSION:2.0
PRODID:-//ChamberMaster//Event Calendar 2.0//EN
METHOD:PUBLISH
X-PUBLISHED-TTL:P3D
REFRESH-INTERVAL:P3D
CALSCALE:GREGORIAN
BEGIN:VEVENT
DTSTART:20150319T170000Z
DTEND:20150319T220000Z
X-MICROSOFT-CDO-ALLDAYEVENT:FALSE
SUMMARY:Solano Great Race
DESCRIPTION:The Solano Great Race is a fast-paced kart racing event that will put your company's name front and center and it's a great way to support our communities and some of the most in-need children who call it home. This event supports The Leaven\, and helps make possible our after-school\, in-community tutoring and mentoring centers that give at-risk children help in school and hope for a bright future. Please contact Mark Hagan\, Corporate Relations Director to discuss sponsorship opportunities. markh@myleaven.com 480-710-3143 http://www.myleaven.com/2015-events/
X-ALT-DESC;FMTTYPE=text/html:The Solano Great Race is a fast-paced kart racing event that will put your company&#39\;s name front and center and it&#39\;s a great way to support our communities and some of the most in-need children who call it home. This event supports The Leaven\, and helps make possible our after-school\, in-community tutoring and mentoring centers that give at-risk children help in school and hope for a bright future. Please contact Mark Hagan\, Corporate Relations Director to discuss sponsorship opportunities. markh@myleaven.com 480-710-3143 http://www.myleaven.com/2015-events/
LOCATION:Driven Raceway
UID:e.1559.1593
SEQUENCE:3
DTSTAMP:20260421T201210Z
URL:https://business.vacavillechamber.com/events/details/solano-great-race-03-19-2015-1593
END:VEVENT

END:VCALENDAR
