BEGIN:VCALENDAR
VERSION:2.0
PRODID:-//ChamberMaster//Event Calendar 2.0//EN
METHOD:PUBLISH
X-PUBLISHED-TTL:P3D
REFRESH-INTERVAL:P3D
CALSCALE:GREGORIAN
BEGIN:VEVENT
DTSTART:20160129T193000Z
DTEND:20160129T213000Z
X-MICROSOFT-CDO-ALLDAYEVENT:FALSE
SUMMARY:Solano EDC Annual Meeting
DESCRIPTION:Solano Economic Development Corporation\n\nAnnual Meeting
X-ALT-DESC;FMTTYPE=text/html:Solano Economic Development Corporation<br />\nAnnual Meeting
LOCATION:Hilton Garden Inn - Fairfield
UID:e.1559.1805
SEQUENCE:3
DTSTAMP:20260421T070836Z
URL:https://business.vacavillechamber.com/events/details/solano-edc-annual-meeting-01-29-2016-1805
END:VEVENT

END:VCALENDAR
