BEGIN:VCALENDAR
VERSION:2.0
PRODID:-//ChamberMaster//Event Calendar 2.0//EN
METHOD:PUBLISH
X-PUBLISHED-TTL:P3D
REFRESH-INTERVAL:P3D
CALSCALE:GREGORIAN
BEGIN:VEVENT
DTSTART:20170214T003000Z
DTEND:20170214T023000Z
X-MICROSOFT-CDO-ALLDAYEVENT:FALSE
SUMMARY:Social Media Workshop-with SnapPop Media
DESCRIPTION:Two hour workshop\; "How to maximize Facebook for your Business"\n\n\n\nIn this workshop Marie Labbee\, SnapPop Media\, will go over in detail step by step on how to\; Content Creation\, Boosting\, Campaigns\, and Live Feed & More.\n\n\n\nBring your iPad\, or Laptop. Snacks and Drinks provided
X-ALT-DESC;FMTTYPE=text/html:Two hour workshop\; &quot\;How to maximize Facebook for your Business&quot\;<br />\n<br />\nIn this workshop Marie Labbee\, SnapPop Media\, will go over in detail step by step on how to\; Content Creation\, Boosting\, Campaigns\, and Live Feed &amp\; More.<br />\n<br />\nBring your iPad\, or Laptop. Snacks and Drinks provided
LOCATION:Vacaville Chamber of Commerce 300 Main Street\, Suite A Vacaville\, CA 95688
UID:e.1559.1958
SEQUENCE:3
DTSTAMP:20260420T145328Z
URL:https://business.vacavillechamber.com/events/details/social-media-workshop-with-snappop-media-1958
END:VEVENT

END:VCALENDAR
