BEGIN:VCALENDAR
VERSION:2.0
PRODID:-//ChamberMaster//Event Calendar 2.0//EN
METHOD:PUBLISH
X-PUBLISHED-TTL:P3D
REFRESH-INTERVAL:P3D
CALSCALE:GREGORIAN
BEGIN:VEVENT
DTSTART:20160718T233000Z
DTEND:20160719T003000Z
X-MICROSOFT-CDO-ALLDAYEVENT:FALSE
SUMMARY:Social Media Mondays
DESCRIPTION:Social Media Monday!\n\n\n\nHow to use Facebook to grow your business. Bring your smart phone or laptop and get ready for some great tips and tricks. Drinks and snacks provided.
X-ALT-DESC;FMTTYPE=text/html:Social Media Monday!<br />\n<br />\nHow to use Facebook to grow your business. Bring your smart phone or laptop and get ready for some great tips and tricks. Drinks and snacks provided.
LOCATION:Vacaville Chamber of Commerce 300 Main Street Vacaville\, CA 95688
UID:e.1559.1888
SEQUENCE:3
DTSTAMP:20260420T233912Z
URL:https://business.vacavillechamber.com/events/details/social-media-mondays-07-18-2016-1888
END:VEVENT

END:VCALENDAR
