BEGIN:VCALENDAR
VERSION:2.0
PRODID:-//ChamberMaster//Event Calendar 2.0//EN
METHOD:PUBLISH
X-PUBLISHED-TTL:P3D
REFRESH-INTERVAL:P3D
CALSCALE:GREGORIAN
BEGIN:VEVENT
DTSTART:20160620T233000Z
DTEND:20160621T003000Z
X-MICROSOFT-CDO-ALLDAYEVENT:FALSE
SUMMARY:Social Media Mondays
DESCRIPTION:Learn how adding video to your website and social media sites can add excitement and validity to your business image! Enjoy a cocktail or two on us while you're here....after all\, it is Happy Hour!
X-ALT-DESC;FMTTYPE=text/html:<strong>Learn how adding video to your website and social media sites can add excitement and validity to your business image! Enjoy a cocktail or two on us while you&#39\;re here....after all\, it is Happy Hour!</strong>
LOCATION:Held at the Vacaville Chamber of Commerce 300 Main Street Vacaville\, CA 95688
UID:e.1559.1880
SEQUENCE:3
DTSTAMP:20260421T005310Z
URL:https://business.vacavillechamber.com/events/details/social-media-mondays-06-20-2016-1880
END:VEVENT

END:VCALENDAR
