BEGIN:VCALENDAR
VERSION:2.0
PRODID:-//ChamberMaster//Event Calendar 2.0//EN
METHOD:PUBLISH
X-PUBLISHED-TTL:P3D
REFRESH-INTERVAL:P3D
CALSCALE:GREGORIAN
BEGIN:VEVENT
DTSTART:20160516T233000Z
DTEND:20160517T003000Z
X-MICROSOFT-CDO-ALLDAYEVENT:FALSE
SUMMARY:Social Media Mondays
DESCRIPTION:Learn how to increase positive online reviews for your company\, search engine optimization\, and MUCH more!  Enjoy a cocktail as well\, after all... it is Happy Hour!
X-ALT-DESC;FMTTYPE=text/html:Learn how to increase positive online reviews for your company\, search engine optimization\, and MUCH more! &nbsp\;Enjoy a cocktail as well\, after all... it is Happy Hour!
LOCATION:Vacaville Chamber of Commerce 300 Main Street
UID:e.1559.1873
SEQUENCE:3
DTSTAMP:20260421T021243Z
URL:https://business.vacavillechamber.com/events/details/social-media-mondays-05-16-2016-1873
END:VEVENT

END:VCALENDAR
