BEGIN:VCALENDAR
VERSION:2.0
PRODID:-//ChamberMaster//Event Calendar 2.0//EN
METHOD:PUBLISH
X-PUBLISHED-TTL:P3D
REFRESH-INTERVAL:P3D
CALSCALE:GREGORIAN
BEGIN:VEVENT
DTSTART:20171016T233000Z
DTEND:20171017T010000Z
X-MICROSOFT-CDO-ALLDAYEVENT:FALSE
SUMMARY:Social Media Monday- "Why your business should be on social media\, and what Network is best for your business"
DESCRIPTION:Join us for this month's Social Media Monday! This month we are taking it back to basics. "Why your business should be on social media\, and what network is best for your business" This months Social Media Monday will be lead by Stacey Spiegel\, Daedalus Creative Design + Marketing.\n\n\n\nDrinks and Snacks Provided!!
X-ALT-DESC;FMTTYPE=text/html:Join us for this month&#39\;s Social Media Monday! This month we are taking it back to basics. &quot\;Why your business should be on social media\, and what network is best for your business&quot\; This months Social Media Monday will be lead by Stacey Spiegel\, Daedalus Creative Design + Marketing.<br />\n<br />\nDrinks and Snacks Provided!!
LOCATION:Vacaville Chamber Of Commerce 300 Main St\, Suite A Vacaville\, CA 95688
UID:e.1559.2023
SEQUENCE:3
DTSTAMP:20260420T042400Z
URL:https://business.vacavillechamber.com/events/details/social-media-monday-why-your-business-should-be-on-social-media-and-what-network-is-best-for-your-business-2023
END:VEVENT

END:VCALENDAR
