BEGIN:VCALENDAR
VERSION:2.0
PRODID:-//ChamberMaster//Event Calendar 2.0//EN
METHOD:PUBLISH
X-PUBLISHED-TTL:P3D
REFRESH-INTERVAL:P3D
CALSCALE:GREGORIAN
BEGIN:VEVENT
DTSTART:20161017T233000Z
DTEND:20161018T010000Z
X-MICROSOFT-CDO-ALLDAYEVENT:FALSE
SUMMARY:Social Media Monday- Twitter
DESCRIPTION:Join us for our Social Media Monday Happy Hour! Learn how to use Twitter for your business.
X-ALT-DESC;FMTTYPE=text/html:Join us for our Social Media Monday Happy Hour! Learn how to use Twitter for your business.&nbsp\;&nbsp\;&nbsp\;&nbsp\;
LOCATION:Vacaville Chamber of Commerce 300 Main St Vacaville\, CA 95688
UID:e.1559.1917
SEQUENCE:3
DTSTAMP:20260420T194732Z
URL:https://business.vacavillechamber.com/events/details/social-media-monday-twitter-1917
END:VEVENT

END:VCALENDAR
