BEGIN:VCALENDAR
VERSION:2.0
PRODID:-//ChamberMaster//Event Calendar 2.0//EN
METHOD:PUBLISH
X-PUBLISHED-TTL:P3D
REFRESH-INTERVAL:P3D
CALSCALE:GREGORIAN
BEGIN:VEVENT
DTSTART:20180917T233000Z
DTEND:20180918T010000Z
X-MICROSOFT-CDO-ALLDAYEVENT:FALSE
SUMMARY:Social Media Monday- Summer Series Part 3
DESCRIPTION:Join us for our Part 3\, final series\, of the Social Media Monday Free Summer Series! \n\n\n\nThis Social Media Monday will be all about Promotion! Step by step direction on how to use promotions on Facebook!\n\n\n\nBring your lap tops\, iPads or moblie decvice with you!\n\n\n\nSnacks and drinks provided!
X-ALT-DESC;FMTTYPE=text/html:Join us for our Part 3\, final series\, of the Social Media Monday Free Summer Series!&nbsp\;<br />\n<br />\nThis Social Media Monday will be all about Promotion! Step by step direction on how to use promotions on Facebook!<br />\n<br />\nBring your lap tops\, iPads or moblie decvice with you!<br />\n<br />\nSnacks and drinks provided!
LOCATION:Vacaville Chamber of Commerce 300 Main Street Vacaville\, CA 95688
UID:e.1559.2497
SEQUENCE:3
DTSTAMP:20260419T131017Z
URL:https://business.vacavillechamber.com/events/details/social-media-monday-summer-series-part-3-2497
END:VEVENT

END:VCALENDAR
