BEGIN:VCALENDAR
VERSION:2.0
PRODID:-//ChamberMaster//Event Calendar 2.0//EN
METHOD:PUBLISH
X-PUBLISHED-TTL:P3D
REFRESH-INTERVAL:P3D
CALSCALE:GREGORIAN
BEGIN:VEVENT
DTSTART:20180820T233000Z
DTEND:20180821T010000Z
X-MICROSOFT-CDO-ALLDAYEVENT:FALSE
SUMMARY:Social Media Monday - Summer Series Part 2
DESCRIPTION:Join us for Part 2 of our Socail Media Monday Free Summer Series\, 3 Basic Tool of Social Media! \n\n\n\nThis Social Media Monday will be all about Video! Capture and edit video for social media\, learn how to use splice and Ripl.\n\n\n\nBring your lap tops\, iPads or mobile device with you!\n\n\n\nSnacks and drinks provided!\n\n\n\nReserve your seat!
X-ALT-DESC;FMTTYPE=text/html:Join us for Part 2 of our Socail Media Monday Free Summer Series\, 3 Basic Tool of Social Media!&nbsp\;<br />\n<br />\nThis Social Media Monday will be all about Video! Capture and edit video for social media\, learn how to use splice and Ripl.<br />\n<br />\nBring your lap tops\, iPads or mobile device with you!<br />\n<br />\nSnacks and drinks provided!<br />\n<br />\nReserve your seat!
LOCATION:Vacaville Chamber of COmmerce 300 Main Street Vacaville\, CA 95688
UID:e.1559.2496
SEQUENCE:3
DTSTAMP:20260419T142919Z
URL:https://business.vacavillechamber.com/events/details/social-media-monday-summer-series-part-2-2496
END:VEVENT

END:VCALENDAR
