BEGIN:VCALENDAR
VERSION:2.0
PRODID:-//ChamberMaster//Event Calendar 2.0//EN
METHOD:PUBLISH
X-PUBLISHED-TTL:P3D
REFRESH-INTERVAL:P3D
CALSCALE:GREGORIAN
BEGIN:VEVENT
DTSTART:20180716T233000Z
DTEND:20180717T010000Z
X-MICROSOFT-CDO-ALLDAYEVENT:FALSE
SUMMARY:Social Media Monday-Summer Series Part 1- Design
DESCRIPTION:Join us for Part 1 of Social Media Monday Free Summer Series\, 3 Basic Tools of Social Media.\n\n\n\n \n\n\n\nThis Social Media Monday will be all about design! How to design eye catching posts that attract new business!\n\n\n\n \n\n\n\nBring your lap tops\, iPads or mobile device with you!\n\n\n\n \n\n\n\nSnacks and drinks provided!\n\n\n\n \n\n\n\nReserve your seat!
X-ALT-DESC;FMTTYPE=text/html:<div data-block="true" data-editor="cbj2t" data-offset-key="9oh42-0-0" style="font-family: Helvetica\, Arial\, sans-serif\; color: rgb(29\, 33\, 41)\; font-size: 12px\; white-space: pre-wrap\;">\n<div class="_1mf _1mj" data-offset-key="9oh42-0-0" style="position: relative\; direction: ltr\; font-family: inherit\;"><span style="font-size:14px\;"><span data-offset-key="9oh42-0-0" style="font-family: inherit\;">Join us for Part 1 of Social Media Monday Free Summer Series\, 3 Basic Tools of Social Media.</span></span></div>\n</div>\n\n<div data-block="true" data-editor="cbj2t" data-offset-key="ep9pc-0-0" style="font-family: Helvetica\, Arial\, sans-serif\; color: rgb(29\, 33\, 41)\; font-size: 12px\; white-space: pre-wrap\;">\n<div class="_1mf _1mj" data-offset-key="ep9pc-0-0" style="position: relative\; direction: ltr\; font-family: inherit\;">&nbsp\;</div>\n</div>\n\n<div data-block="true" data-editor="cbj2t" data-offset-key="da1n0-0-0" style="font-family: Helvetica\, Arial\, sans-serif\; color: rgb(29\, 33\, 41)\; font-size: 12px\; white-space: pre-wrap\;">\n<div class="_1mf _1mj" data-offset-key="da1n0-0-0" style="position: relative\; direction: ltr\; font-family: inherit\;"><span style="font-size:14px\;"><span data-offset-key="da1n0-0-0" style="font-family: inherit\;">This Social Media Monday will be all about design! How to design eye catching posts that attract new business!</span></span></div>\n</div>\n\n<div data-block="true" data-editor="cbj2t" data-offset-key="4ltg6-0-0" style="font-family: Helvetica\, Arial\, sans-serif\; color: rgb(29\, 33\, 41)\; font-size: 12px\; white-space: pre-wrap\;">\n<div class="_1mf _1mj" data-offset-key="4ltg6-0-0" style="position: relative\; direction: ltr\; font-family: inherit\;">&nbsp\;</div>\n</div>\n\n<div data-block="true" data-editor="cbj2t" data-offset-key="36v5f-0-0" style="font-family: Helvetica\, Arial\, sans-serif\; color: rgb(29\, 33\, 41)\; font-size: 12px\; white-space: pre-wrap\;">\n<div class="_1mf _1mj" data-offset-key="36v5f-0-0" style="position: relative\; direction: ltr\; font-family: inherit\;"><span style="font-size:14px\;"><span data-offset-key="36v5f-0-0" style="font-family: inherit\;">Bring your lap tops\, iPads or mobile device with you!</span></span></div>\n</div>\n\n<div data-block="true" data-editor="cbj2t" data-offset-key="s0bh-0-0" style="font-family: Helvetica\, Arial\, sans-serif\; color: rgb(29\, 33\, 41)\; font-size: 12px\; white-space: pre-wrap\;">\n<div class="_1mf _1mj" data-offset-key="s0bh-0-0" style="position: relative\; direction: ltr\; font-family: inherit\;">&nbsp\;</div>\n</div>\n\n<div data-block="true" data-editor="cbj2t" data-offset-key="emdah-0-0" style="font-family: Helvetica\, Arial\, sans-serif\; color: rgb(29\, 33\, 41)\; font-size: 12px\; white-space: pre-wrap\;">\n<div class="_1mf _1mj" data-offset-key="emdah-0-0" style="position: relative\; direction: ltr\; font-family: inherit\;"><span style="font-size:14px\;"><span data-offset-key="emdah-0-0" style="font-family: inherit\;">Snacks and drinks provided!</span></span></div>\n</div>\n\n<div data-block="true" data-editor="cbj2t" data-offset-key="1g52o-0-0" style="font-family: Helvetica\, Arial\, sans-serif\; color: rgb(29\, 33\, 41)\; font-size: 12px\; white-space: pre-wrap\;">\n<div class="_1mf _1mj" data-offset-key="1g52o-0-0" style="position: relative\; direction: ltr\; font-family: inherit\;">&nbsp\;</div>\n</div>\n\n<div data-block="true" data-editor="cbj2t" data-offset-key="bsf9g-0-0" style="font-family: Helvetica\, Arial\, sans-serif\; color: rgb(29\, 33\, 41)\; font-size: 12px\; white-space: pre-wrap\;">\n<div class="_1mf _1mj" data-offset-key="bsf9g-0-0" style="position: relative\; direction: ltr\; font-family: inherit\;"><span style="font-size:14px\;"><span data-offset-key="bsf9g-0-0" style="font-family: inherit\;">Reserve your seat! </span></span></div>\n</div>\n
LOCATION:Vacaville Chamber of Commerce 300 Main Street Vacaville\, CA 95688
UID:e.1559.2495
SEQUENCE:3
DTSTAMP:20260419T155423Z
URL:https://business.vacavillechamber.com/events/details/social-media-monday-summer-series-part-1-design-2495
END:VEVENT

END:VCALENDAR
