BEGIN:VCALENDAR
VERSION:2.0
PRODID:-//ChamberMaster//Event Calendar 2.0//EN
METHOD:PUBLISH
X-PUBLISHED-TTL:P3D
REFRESH-INTERVAL:P3D
CALSCALE:GREGORIAN
BEGIN:VEVENT
DTSTART:20160919T233000Z
DTEND:20160920T011500Z
X-MICROSOFT-CDO-ALLDAYEVENT:FALSE
SUMMARY:Social Media Monday - Snapchat
DESCRIPTION:Learn how you could use Snapchat for your business!\n\nThinking of adding Snapchat to your social media marketing mix?\n\nInterested in ways to use Snapchat to strengthen your brand?\n\nLearn to use Snapchat to increase community engagement and brand awareness and much more!
X-ALT-DESC;FMTTYPE=text/html:<span style="font-family:tahoma\;"><span style="font-size:22px\;"><strong>Learn how you could use&nbsp\;Snapchat for your&nbsp\;business!</strong></span></span>\n\n<p style="margin: 15px 0px\; font-size: 16px\; color: rgb(61\, 61\, 61)\; font-family: Helvetica\; line-height: 24px !important\; background-color: rgb(255\, 255\, 255)\;"><span style="font-family:times new roman\;">Thinking of adding Snapchat to your social media marketing mix?<br />\nInterested in ways to use Snapchat to strengthen your brand?<br />\nLearn to use Snapchat to increase community engagement and brand awareness and much more!</span></p>\n
LOCATION:Chamber of Commerce Building 300 Main St. Vacaville\, CA 95688
UID:e.1559.1902
SEQUENCE:3
DTSTAMP:20260420T210129Z
URL:https://business.vacavillechamber.com/events/details/social-media-monday-snapchat-1902
END:VEVENT

END:VCALENDAR
