BEGIN:VCALENDAR
VERSION:2.0
PRODID:-//ChamberMaster//Event Calendar 2.0//EN
METHOD:PUBLISH
X-PUBLISHED-TTL:P3D
REFRESH-INTERVAL:P3D
CALSCALE:GREGORIAN
BEGIN:VEVENT
DTSTART:20170821T233000Z
DTEND:20170822T010000Z
X-MICROSOFT-CDO-ALLDAYEVENT:FALSE
SUMMARY:Social Media Monday- MemberPlus App
DESCRIPTION:Join us for our monthly Social Media Monday! This month we will be learning how to access\, use\, and navigate the Memberplus App (Vacaville Chamber's App). We will go over:\n\n\n\nLogin\n\nFind Directory\n\nFind Event Calendar\n\nPost an event for members to view\n\nPost Hot deals\n\nView newsfeed\n\n \n\nSnacks and Drinks provided!\n\n\n\n**Must be a member to use Memberplus App**
X-ALT-DESC;FMTTYPE=text/html:Join us for our monthly Social Media Monday! This month we will be learning how to access\, use\, and navigate the Memberplus App (Vacaville Chamber&#39\;s App). We will go over:<br />\n<br />\nLogin<br />\nFind Directory<br />\nFind Event Calendar<br />\nPost an event for members to view<br />\nPost Hot deals<br />\nView newsfeed<br />\n&#8203\;<br />\nSnacks and Drinks provided!<br />\n<br />\n**Must be a member to use Memberplus&nbsp\;App**
LOCATION:Vacaville Chamber 300 Main Street\, Suite A Vacaville\, CA 95688
UID:e.1559.2005
SEQUENCE:3
DTSTAMP:20260420T064755Z
URL:https://business.vacavillechamber.com/events/details/social-media-monday-memberplus-app-2005
END:VEVENT

END:VCALENDAR
