BEGIN:VCALENDAR
VERSION:2.0
PRODID:-//ChamberMaster//Event Calendar 2.0//EN
METHOD:PUBLISH
X-PUBLISHED-TTL:P3D
REFRESH-INTERVAL:P3D
CALSCALE:GREGORIAN
BEGIN:VEVENT
DTSTART:20170515T233000Z
DTEND:20170516T010000Z
X-MICROSOFT-CDO-ALLDAYEVENT:FALSE
SUMMARY:Social Media Monday- Instagram
DESCRIPTION:Instagram is one of the fastest growing social media platforms. Are you there? Do you want to be there\, but don't know how? In this session\, you'll learn best practices for setting up an account\, and editing + posting photos for your brand\, like a pro.\n\n\n\nSet up for success...\n\n\n\nAFTER THIS SESSION\, YOU'LL KNOW HOW TO:\n\n\n	\n	\n		Strategically create your account & profile\n		Edit & post photos + best apps to use\n		Properly use tagging features\n	\n	\n\n\nJoin us for a comprehensive Instagram how-to with actionable insights you can put into practice today!\n\n\n\nPresentation by: Kerry Hardy\, with Mighty Hardy Marketing
X-ALT-DESC;FMTTYPE=text/html:<blockquote style="color: rgb(34\, 34\, 34)\; font-family: arial\, sans-serif\; font-size: 12.8px\; font-style: normal\; margin: 0px 0px 0px 40px\; border: none\; padding: 0px\;">Instagram is one of the fastest growing social media platforms. Are you there? Do you want to be there\, but don&rsquo\;t know how? In this session\, you&#39\;ll learn best practices for setting up an account\, and editing + posting photos for your brand\, like a pro.<br />\n<br />\nSet up for success...<br />\n<br />\nAFTER THIS SESSION\, YOU&rsquo\;LL KNOW HOW TO:</blockquote>\n\n<ul style="color: rgb(34\, 34\, 34)\; font-family: arial\, sans-serif\; font-size: 12.8px\;">\n	<li>\n	<ul>\n		<li style="margin-left: 15px\;">Strategically create your account &amp\; profile</li>\n		<li style="margin-left: 15px\;">Edit &amp\; post photos + best apps to use</li>\n		<li style="margin-left: 15px\;">Properly use tagging features</li>\n	</ul>\n	</li>\n</ul>\n\n<blockquote style="color: rgb(34\, 34\, 34)\; font-family: arial\, sans-serif\; font-size: 12.8px\; font-style: normal\; margin: 0px 0px 0px 40px\; border: none\; padding: 0px\;">Join us for a comprehensive Instagram how-to with actionable insights you can put into practice today!<br />\n<br />\nPresentation by: Kerry Hardy\, with Mighty Hardy Marketing</blockquote>\n
LOCATION:Vacaville Chamber of Commerce 300 Main Street\, Vacaville
UID:e.1559.1981
SEQUENCE:3
DTSTAMP:20260420T105612Z
URL:https://business.vacavillechamber.com/events/details/social-media-monday-instagram-1981
END:VEVENT

END:VCALENDAR
