BEGIN:VCALENDAR
VERSION:2.0
PRODID:-//ChamberMaster//Event Calendar 2.0//EN
METHOD:PUBLISH
X-PUBLISHED-TTL:P3D
REFRESH-INTERVAL:P3D
CALSCALE:GREGORIAN
BEGIN:VEVENT
DTSTART:20180423T233000Z
DTEND:20180424T010000Z
X-MICROSOFT-CDO-ALLDAYEVENT:FALSE
SUMMARY:Social Media Monday- How Company Pages Can Still Win\, with Facebook New Algorithm
DESCRIPTION:How Company Pages Can Still Win With  Facebook's New Algorithm Changes\n\n \n\nDoes your business have a Facebook Page? If so\, then the changes to Facebook's new policy for business pages applies to you.\n\nIn January 2018\, Facebook announced a new "meaningful interactions" update that resulted in a decline in organic reach from brands and digital publishers.\n\nThere are ways that business can adapt their strategies to maintain presence on Facebook.  \n\nDuring this Social Media Monday you will learn:\n\n	How the Facebook algorithm and News Feed works (2018)\n	What company Facebook pages need to do to adjust to the new algorithm\n	How to make sure your posts still show up in the Newsfeed
X-ALT-DESC;FMTTYPE=text/html:How Company Pages Can Still Win With &nbsp\;Facebook&rsquo\;s New Algorithm Changes<br />\n&nbsp\;<br />\nDoes your business have a Facebook Page? If so\, then the changes to Facebook&rsquo\;s new policy for business pages applies to you.<br />\nIn January 2018\, Facebook announced a new &ldquo\;meaningful interactions&rdquo\; update that resulted in a decline in organic reach from brands and digital publishers.<br />\nThere are ways that business can adapt their strategies to maintain presence on Facebook. &nbsp\;<br />\nDuring this Social Media Monday you will learn:\n<ul>\n	<li style="font-size:11pt\;font-family:Calibri\, sans-serif\;">How the Facebook algorithm and News Feed works (2018)</li>\n	<li style="font-size:11pt\;font-family:Calibri\, sans-serif\;">What company Facebook pages need to do to adjust to the new algorithm</li>\n	<li style="font-size:11pt\;font-family:Calibri\, sans-serif\;">How to make sure your posts still show up in the Newsfeed</li>\n</ul>\n
LOCATION:Vacaville Chamber 300 Main Street Vacaville\, CA 95688
UID:e.1559.2082
SEQUENCE:3
DTSTAMP:20260419T202031Z
URL:https://business.vacavillechamber.com/events/details/social-media-monday-how-company-pages-can-still-win-with-facebook-new-algorithm-2082
END:VEVENT

END:VCALENDAR
