BEGIN:VCALENDAR
VERSION:2.0
PRODID:-//ChamberMaster//Event Calendar 2.0//EN
METHOD:PUBLISH
X-PUBLISHED-TTL:P3D
REFRESH-INTERVAL:P3D
CALSCALE:GREGORIAN
BEGIN:VEVENT
DTSTART:20160815T233000Z
DTEND:20160816T010000Z
X-MICROSOFT-CDO-ALLDAYEVENT:FALSE
SUMMARY:Social Media Monday Happy Hour - Pokemon Go!
DESCRIPTION:Learn How To Market Your Business on Pokemon Go!\n\n\n\nDo you run or help promote a local business?\n\nInterested in taking advantage of the latest game craze?\n\nDiscover how you can boost your business's social media engagement with Pokemon Go.\n\n\n\n*Bring your smart phone or laptop and get ready for some great tips and tricks. Drinks and snacks provided.
X-ALT-DESC;FMTTYPE=text/html:<br />\n<span style="font-size:16px\;"><span style="color:#000000\;"><strong><span style="font-family:arial\;">Learn How To Market Your Business on Pokemon Go!</span></strong></span></span><br />\n<br />\nDo you run or help promote a local business?<br />\nInterested in taking advantage of the latest game craze?<br />\n<span style="color:#000000\;"><strong>Discover how you can boost your business&#39\;s&nbsp\;social media engagement with Pokemon Go.</strong></span><br />\n<br />\n*Bring your smart phone or laptop and get ready for some great tips and tricks. Drinks and snacks provided.
LOCATION:Vacaville Chamber of Commerce 300 Main Street Vacaville\, CA 95688
UID:e.1559.1891
SEQUENCE:3
DTSTAMP:20260420T222756Z
URL:https://business.vacavillechamber.com/events/details/social-media-monday-happy-hour-pokemon-go-08-15-2016-1891
END:VEVENT

END:VCALENDAR
