BEGIN:VCALENDAR
VERSION:2.0
PRODID:-//ChamberMaster//Event Calendar 2.0//EN
METHOD:PUBLISH
X-PUBLISHED-TTL:P3D
REFRESH-INTERVAL:P3D
CALSCALE:GREGORIAN
BEGIN:VEVENT
DTSTART:20171121T003000Z
DTEND:20171121T020000Z
X-MICROSOFT-CDO-ALLDAYEVENT:FALSE
SUMMARY:Social Media Monday- Facebook For Your Business
DESCRIPTION:You have a Facebook profile\, maybe even a Facebook page. What's next? Have you set up your Business Facebook? What's the difference between Ads Manager and Power Editor? We'll answer these questions\, learn the full setup process\, and create a Facebook campaign from start to finish. Join us!\n\n\n\nWith Kerry Hardy\, Mighty Hardy Marketing
X-ALT-DESC;FMTTYPE=text/html:<span style="color: rgb(34\, 34\, 34)\; font-family: arial\, sans-serif\; font-size: 12.8px\;">You have a Facebook profile\, maybe even a Facebook page. What&rsquo\;s next? Have you set up your Business Facebook? What&rsquo\;s the difference between Ads Manager and Power Editor? We&rsquo\;ll answer these questions\, learn the full setup process\, and create a Facebook campaign from start to finish. Join us!<br />\n<br />\nWith Kerry Hardy\, Mighty Hardy Marketing&nbsp\;</span>
LOCATION:300 Main Street\, Suite A Vacaville\, CA 95688
UID:e.1559.2027
SEQUENCE:3
DTSTAMP:20260420T025845Z
URL:https://business.vacavillechamber.com/events/details/social-media-monday-facebook-for-your-business-2027
END:VEVENT

END:VCALENDAR
