BEGIN:VCALENDAR
VERSION:2.0
PRODID:-//ChamberMaster//Event Calendar 2.0//EN
METHOD:PUBLISH
X-PUBLISHED-TTL:P3D
REFRESH-INTERVAL:P3D
CALSCALE:GREGORIAN
BEGIN:VEVENT
DTSTART:20161220T003000Z
DTEND:20161220T020000Z
X-MICROSOFT-CDO-ALLDAYEVENT:FALSE
SUMMARY:Social Media Monday- Facebook
DESCRIPTION:Social Media Monday! Find out some tips and tricks of Facebook for your business\, while enjoying a glass of wine and snacks!
X-ALT-DESC;FMTTYPE=text/html:Social Media Monday! Find out some tips and tricks of Facebook for your business\, while enjoying a glass of wine and snacks!&nbsp\;&nbsp\;&nbsp\;&nbsp\;
LOCATION:Vacaville Chamber Office 300 Main Street\, Suite A Vacaville\, CA 95688
UID:e.1559.1933
SEQUENCE:3
DTSTAMP:20260420T172925Z
URL:https://business.vacavillechamber.com/events/details/social-media-monday-facebook-1933
END:VEVENT

END:VCALENDAR
