BEGIN:VCALENDAR
VERSION:2.0
PRODID:-//ChamberMaster//Event Calendar 2.0//EN
METHOD:PUBLISH
X-PUBLISHED-TTL:P3D
REFRESH-INTERVAL:P3D
CALSCALE:GREGORIAN
BEGIN:VEVENT
DTSTART:20170320T233000Z
DTEND:20170321T010000Z
X-MICROSOFT-CDO-ALLDAYEVENT:FALSE
SUMMARY:Social Media Monday- Drive New Business with Social Media
DESCRIPTION:Drive New Business with Social Media\n\nGuide to Successful Social Media Marketing\n\n \n\nYou know you should be on social media for your business or non-profit. You know it can help you drive more new and repeat business for your organization. But\, do you know why? Do you know which social media platform will have the biggest bang for your buck? And when you start your profile\, do you know what to say and how to grow your following? This session will answer all of those questions and more!\n\n \n\nLet us help you:\n\n Determine the platform that's right for you and your organization\n\n Announce your presence and build your network\n\n Create and share content that encourages action\n\n Understand social media advertising and learn your options\n\n Convert social media leads into potential customers by growing your email list\n\n \n\nFrom understanding the different social media platforms\, to choosing what to say and where to say it\, this seminar will give you the keys to the most effective social media marketing for you. You don't have to be on every platform\, and you don't have to make every post by yourself. Let us make social media easy - join us!
X-ALT-DESC;FMTTYPE=text/html:<strong>Drive New Business with Social Media</strong><br />\nGuide to Successful Social Media Marketing<br />\n&nbsp\;<br />\nYou know you should be on social media for your business or non-profit. You know it can help you drive more new and repeat business for your organization. But\, do you know why? Do you know which social media platform will have the biggest bang for your buck? And when you start your profile\, do you know what to say and how to grow your following? This session will answer all of those questions and more!<br />\n&nbsp\;<br />\nLet us help you:<br />\n&bull\;Determine the platform that&rsquo\;s&nbsp\;<strong>right for you</strong>&nbsp\;and your organization<br />\n&bull\;Announce your presence and&nbsp\;<strong>build your network</strong><br />\n&bull\;Create and&nbsp\;<strong>share content&nbsp\;</strong>that encourages action<br />\n&bull\;Understand social media advertising and&nbsp\;<strong>learn your options</strong><br />\n&bull\;Convert social media leads into potential customers by&nbsp\;<strong>growing your email list</strong><br />\n&nbsp\;<br />\nFrom understanding the different social media platforms\, to choosing what to say and where to say it\, this seminar will give you the keys to the&nbsp\;<u>most effective</u>&nbsp\;social media marketing for you. You don&rsquo\;t have to be on every platform\, and you don&rsquo\;t have to make every post by yourself. Let us make social media easy - join us!
LOCATION:Vacaville Chamber of Commerce Office 300 Main Street\, Vacaville 95688
UID:e.1559.1962
SEQUENCE:3
DTSTAMP:20260420T133927Z
URL:https://business.vacavillechamber.com/events/details/social-media-monday-drive-new-business-with-social-media-1962
END:VEVENT

END:VCALENDAR
