BEGIN:VCALENDAR
VERSION:2.0
PRODID:-//ChamberMaster//Event Calendar 2.0//EN
METHOD:PUBLISH
X-PUBLISHED-TTL:P3D
REFRESH-INTERVAL:P3D
CALSCALE:GREGORIAN
BEGIN:VEVENT
DTSTART:20170417T233000Z
DTEND:20170418T010000Z
X-MICROSOFT-CDO-ALLDAYEVENT:FALSE
SUMMARY:Social Media Monday- Digital Marketing trends in 2017
DESCRIPTION:Digital marketing is changing thanks to widespread ownership of smartphones\, ever-increasing data and video streaming\, combined with a cultural desire for digestible and personalized content. Do you know which trends will impact YOUR organization in 2017? How can you jump on some of these trends to get an edge on your competition? You're about to find out \n\n \n\nBy the end of this session\, you'll have a cutting edge on:\n\n	Marketing Automation\n	Content Marketing\n	Video\n	Mobile\n	Big Data\n\n \n\nJoin us as we explore the top trends in digital marketing that we believe small businesses should be paying attention to in 2017.  We'll explore each trend and provide some simple ideas for incorporating them into your overall marketing strategy.
X-ALT-DESC;FMTTYPE=text/html:Digital marketing is changing thanks to widespread ownership of smartphones\, ever-increasing data and video streaming\, combined with a cultural desire for digestible and personalized content. Do you know which trends will impact YOUR organization in 2017? How can you jump on some of these trends to get an edge on your competition? You&rsquo\;re about to find out&hellip\;<br />\n&nbsp\;<br />\nBy the end of this session\, you&rsquo\;ll have a cutting edge on:\n<ul>\n	<li style="line-height:11.52px\;">Marketing Automation</li>\n	<li style="line-height:11.52px\;">Content Marketing</li>\n	<li style="line-height:11.52px\;">Video</li>\n	<li style="line-height:11.52px\;">Mobile</li>\n	<li style="line-height:11.52px\;">Big Data</li>\n</ul>\n&nbsp\;<br />\nJoin us as we explore the top trends in digital marketing that we believe small businesses should be paying attention to in 2017.&nbsp\; We&rsquo\;ll explore each trend and provide some simple ideas for incorporating them into your overall marketing strategy.
LOCATION:Vacaville Chamber of Commerce 300 Main Street\, Vacaville
UID:e.1559.1971
SEQUENCE:3
DTSTAMP:20260420T121900Z
URL:https://business.vacavillechamber.com/events/details/social-media-monday-digital-marketing-trends-in-2017-1971
END:VEVENT

END:VCALENDAR
