BEGIN:VCALENDAR
VERSION:2.0
PRODID:-//ChamberMaster//Event Calendar 2.0//EN
METHOD:PUBLISH
X-PUBLISHED-TTL:P3D
REFRESH-INTERVAL:P3D
CALSCALE:GREGORIAN
BEGIN:VEVENT
DTSTART:20180319T233000Z
DTEND:20180320T010000Z
X-MICROSOFT-CDO-ALLDAYEVENT:FALSE
SUMMARY:Social Media Monday
DESCRIPTION:Join us for our monthly Social Media Monday. This month we will talking about SEO (search engine optimization) with Stacey Spiegel\, Daedalus Creative  Design + Marketing. \n\n\n\n*Wine and snacks provided
X-ALT-DESC;FMTTYPE=text/html:Join us for our monthly Social Media Monday. This month we will talking about SEO (search engine optimization) with Stacey Spiegel\, Daedalus Creative &nbsp\;Design + Marketing.&nbsp\;<br />\n<br />\n*Wine and snacks provided
LOCATION:300 Main Street Vacaville CA 95688
UID:e.1559.2070
SEQUENCE:3
DTSTAMP:20260419T213640Z
URL:https://business.vacavillechamber.com/events/details/social-media-monday-2070
END:VEVENT

END:VCALENDAR
