BEGIN:VCALENDAR
VERSION:2.0
PRODID:-//ChamberMaster//Event Calendar 2.0//EN
METHOD:PUBLISH
X-PUBLISHED-TTL:P3D
REFRESH-INTERVAL:P3D
CALSCALE:GREGORIAN
BEGIN:VEVENT
DTSTART:20180512T160000Z
DTEND:20180512T190000Z
X-MICROSOFT-CDO-ALLDAYEVENT:FALSE
SUMMARY:Rush Ranch Hike
DESCRIPTION:Leadership Today Fundraiser\n\nfor Public Service Academy\n\nRush Ranch Hike
X-ALT-DESC;FMTTYPE=text/html:Leadership Today Fundraiser<br />\nfor Public Service Academy<br />\nRush Ranch Hike
LOCATION:Rush Ranch Solano Land Trust
UID:e.1559.2091
SEQUENCE:3
DTSTAMP:20260419T184230Z
URL:https://business.vacavillechamber.com/events/details/rush-ranch-hike-2091
END:VEVENT

END:VCALENDAR
