BEGIN:VCALENDAR
VERSION:2.0
PRODID:-//ChamberMaster//Event Calendar 2.0//EN
METHOD:PUBLISH
X-PUBLISHED-TTL:P3D
REFRESH-INTERVAL:P3D
CALSCALE:GREGORIAN
BEGIN:VEVENT
DTSTART:20160520T220000Z
DTEND:20160521T030000Z
X-MICROSOFT-CDO-ALLDAYEVENT:FALSE
SUMMARY:Rockin' Jump Grand Opening
DESCRIPTION:Rockin' Jump Grand Opening!
X-ALT-DESC;FMTTYPE=text/html:Rockin&#39\; Jump Grand Opening!&nbsp\;
LOCATION:828 Alamo Drive Vacaville\, CA 95688
UID:e.1559.1877
SEQUENCE:3
DTSTAMP:20260421T020939Z
URL:https://business.vacavillechamber.com/events/details/rockin-jump-grand-opening-05-20-2016-1877
END:VEVENT

END:VCALENDAR
