BEGIN:VCALENDAR
VERSION:2.0
PRODID:-//ChamberMaster//Event Calendar 2.0//EN
METHOD:PUBLISH
X-PUBLISHED-TTL:P3D
REFRESH-INTERVAL:P3D
CALSCALE:GREGORIAN
BEGIN:VEVENT
DTSTART:20180306T190000Z
DTEND:20180306T200000Z
X-MICROSOFT-CDO-ALLDAYEVENT:FALSE
SUMMARY:Ribbon Cutting- Walmart Curbside Pick Up Reveal
DESCRIPTION:Join us for the Ribbon Cutting event and reveal of Walmart Neighborhood Market's online shopping curbside pick up!
X-ALT-DESC;FMTTYPE=text/html:Join us for the Ribbon Cutting event and reveal of Walmart Neighborhood Market&#39\;s online shopping curbside pick up!&nbsp\; &nbsp\;
LOCATION:Walmart Neighborhood Market 941 Alamo Dr Vacaville\, CA 95687
UID:e.1559.2063
SEQUENCE:3
DTSTAMP:20260419T213759Z
URL:https://business.vacavillechamber.com/events/details/ribbon-cutting-walmart-curbside-pick-up-reveal-2063
END:VEVENT

END:VCALENDAR
