BEGIN:VCALENDAR
VERSION:2.0
PRODID:-//ChamberMaster//Event Calendar 2.0//EN
METHOD:PUBLISH
X-PUBLISHED-TTL:P3D
REFRESH-INTERVAL:P3D
CALSCALE:GREGORIAN
BEGIN:VEVENT
DTSTART:20180330T000000Z
DTEND:20180330T010000Z
X-MICROSOFT-CDO-ALLDAYEVENT:FALSE
SUMMARY:Ribbon Cutting- Visit Vacaville's New Location Open House
DESCRIPTION:Join us in celebrating Visit Vacaville's new location at their Open House Ribbon Cutting event! \n\n\n\n*Ribbon to be cut 5:30 pm
X-ALT-DESC;FMTTYPE=text/html:<span style="color: rgb(33\, 33\, 33)\; font-family: Roboto\, Helvetica\, Arial\, sans-serif\; font-size: 14px\; background-color: rgb(245\, 245\, 245)\;">Join us in celebrating Visit Vacaville&#39\;s new location at their Open House Ribbon Cutting event!&nbsp\;</span><br style="color: rgb(33\, 33\, 33)\; font-family: Roboto\, Helvetica\, Arial\, sans-serif\; font-size: 14px\; background-color: rgb(245\, 245\, 245)\;" />\n<br style="color: rgb(33\, 33\, 33)\; font-family: Roboto\, Helvetica\, Arial\, sans-serif\; font-size: 14px\; background-color: rgb(245\, 245\, 245)\;" />\n<span style="color: rgb(33\, 33\, 33)\; font-family: Roboto\, Helvetica\, Arial\, sans-serif\; font-size: 14px\; background-color: rgb(245\, 245\, 245)\;">*Ribbon to be cut 5:30 pm</span>
LOCATION:Visit Vacaville 1671 E Monte Vista Ave\, Ste N-110 Vacaville\, CA 95688
UID:e.1559.2064
SEQUENCE:3
DTSTAMP:20260419T214001Z
URL:https://business.vacavillechamber.com/events/details/ribbon-cutting-visit-vacaville-s-new-location-open-house-2064
END:VEVENT

END:VCALENDAR
