BEGIN:VCALENDAR
VERSION:2.0
PRODID:-//ChamberMaster//Event Calendar 2.0//EN
METHOD:PUBLISH
X-PUBLISHED-TTL:P3D
REFRESH-INTERVAL:P3D
CALSCALE:GREGORIAN
BEGIN:VEVENT
DTSTART:20170922T003000Z
DTEND:20170922T013000Z
X-MICROSOFT-CDO-ALLDAYEVENT:FALSE
SUMMARY:Ribbon Cutting-Vacaville Performing Arts Theatre\, OnStage Vacaville
DESCRIPTION:Join us for a Ribbon Cutting Event for OnStage Vacaville! Enjoy cocktails\, appetizers and networking! \n\n\n\nRibbon Cutting at 6:00 pm
X-ALT-DESC;FMTTYPE=text/html:Join us for a Ribbon Cutting Event for OnStage Vacaville! Enjoy cocktails\, appetizers and networking!&nbsp\;<br />\n<br />\nRibbon Cutting at 6:00 pm&nbsp\;
LOCATION:Vacaville Performing Arts Theatre 1010 Ulatis Dr\, Vacaville
UID:e.1559.2004
SEQUENCE:3
DTSTAMP:20260420T053750Z
URL:https://business.vacavillechamber.com/events/details/ribbon-cutting-vacaville-performing-arts-theatre-onstage-vacaville-2004
END:VEVENT

END:VCALENDAR
