BEGIN:VCALENDAR
VERSION:2.0
PRODID:-//ChamberMaster//Event Calendar 2.0//EN
METHOD:PUBLISH
X-PUBLISHED-TTL:P3D
REFRESH-INTERVAL:P3D
CALSCALE:GREGORIAN
BEGIN:VEVENT
DTSTART:20150901T003000Z
DTEND:20150901T010000Z
X-MICROSOFT-CDO-ALLDAYEVENT:FALSE
SUMMARY:Ribbon Cutting - Vacaville Christian Schools Gymnasium
DESCRIPTION:Celebrate the renovation of VCS' Gymnasium
X-ALT-DESC;FMTTYPE=text/html:Celebrate the renovation of VCS&#39\; Gymnasium
LOCATION:1117 Davis Street
UID:e.1559.1778
SEQUENCE:3
DTSTAMP:20260421T132700Z
URL:https://business.vacavillechamber.com/events/details/ribbon-cutting-vacaville-christian-schools-gymnasium-08-31-2015-1778
END:VEVENT

END:VCALENDAR
