BEGIN:VCALENDAR
VERSION:2.0
PRODID:-//ChamberMaster//Event Calendar 2.0//EN
METHOD:PUBLISH
X-PUBLISHED-TTL:P3D
REFRESH-INTERVAL:P3D
CALSCALE:GREGORIAN
BEGIN:VEVENT
DTSTART:20180223T000000Z
DTEND:20180223T020000Z
X-MICROSOFT-CDO-ALLDAYEVENT:FALSE
SUMMARY:Ribbon Cutting - Vaca Valley Living
DESCRIPTION:Join us for the Grand Opening of Vaca Valley Living!
X-ALT-DESC;FMTTYPE=text/html:Join us for the Grand Opening of Vaca Valley Living!
LOCATION:80 Orange Tree Circle Vacaville\, CA 95687
UID:e.1559.2060
SEQUENCE:3
DTSTAMP:20260419T225948Z
URL:https://business.vacavillechamber.com/events/details/ribbon-cutting-vaca-valley-living-2060
END:VEVENT

END:VCALENDAR
