BEGIN:VCALENDAR
VERSION:2.0
PRODID:-//ChamberMaster//Event Calendar 2.0//EN
METHOD:PUBLISH
X-PUBLISHED-TTL:P3D
REFRESH-INTERVAL:P3D
CALSCALE:GREGORIAN
BEGIN:VEVENT
DTSTART:20170915T003000Z
DTEND:20170915T013000Z
X-MICROSOFT-CDO-ALLDAYEVENT:FALSE
SUMMARY:Ribbon Cutting- University of Beer
DESCRIPTION:Join us for a Ribbon Cutting celebration for University of Beer Vacaville! Let's welcome them to the Vacaville community and the Chamber!
X-ALT-DESC;FMTTYPE=text/html:Join us for a Ribbon Cutting celebration for University of Beer Vacaville! Let&#39\;s welcome them to the Vacaville community and the Chamber!
LOCATION:196 Nut Tree Parkway\, Suite F Vacaville\, CA 95687
UID:e.1559.2013
SEQUENCE:3
DTSTAMP:20260420T053543Z
URL:https://business.vacavillechamber.com/events/details/ribbon-cutting-university-of-beer-2013
END:VEVENT

END:VCALENDAR
