BEGIN:VCALENDAR
VERSION:2.0
PRODID:-//ChamberMaster//Event Calendar 2.0//EN
METHOD:PUBLISH
X-PUBLISHED-TTL:P3D
REFRESH-INTERVAL:P3D
CALSCALE:GREGORIAN
BEGIN:VEVENT
DTSTART:20160727T001500Z
DTEND:20160727T011500Z
X-MICROSOFT-CDO-ALLDAYEVENT:FALSE
SUMMARY:Ribbon Cutting - Triumph Protection Group
DESCRIPTION:Welcome Triumph Protection Group to the community!
X-ALT-DESC;FMTTYPE=text/html:Welcome Triumph Protection Group to the community!
LOCATION:853 Cotting Court Vacaville\, 95688
UID:e.1559.1887
SEQUENCE:3
DTSTAMP:20260420T233755Z
URL:https://business.vacavillechamber.com/events/details/ribbon-cutting-triumph-protection-group-07-26-2016-1887
END:VEVENT

END:VCALENDAR
