BEGIN:VCALENDAR
VERSION:2.0
PRODID:-//ChamberMaster//Event Calendar 2.0//EN
METHOD:PUBLISH
X-PUBLISHED-TTL:P3D
REFRESH-INTERVAL:P3D
CALSCALE:GREGORIAN
BEGIN:VEVENT
DTSTART:20170330T003000Z
DTEND:20170330T013000Z
X-MICROSOFT-CDO-ALLDAYEVENT:FALSE
SUMMARY:Ribbon Cutting- The Pet Shop
DESCRIPTION:Join us in welcoming The Pet Shop to the Vacaville Community!
X-ALT-DESC;FMTTYPE=text/html:Join us in welcoming The Pet Shop to the Vacaville Community!&nbsp\;
LOCATION:630 Orange Drive\, Vacaville
UID:e.1559.1963
SEQUENCE:3
DTSTAMP:20260420T133428Z
URL:https://business.vacavillechamber.com/events/details/ribbon-cutting-the-pet-shop-1963
END:VEVENT

END:VCALENDAR
