BEGIN:VCALENDAR
VERSION:2.0
PRODID:-//ChamberMaster//Event Calendar 2.0//EN
METHOD:PUBLISH
X-PUBLISHED-TTL:P3D
REFRESH-INTERVAL:P3D
CALSCALE:GREGORIAN
BEGIN:VEVENT
DTSTART:20151120T010000Z
DTEND:20151120T020000Z
X-MICROSOFT-CDO-ALLDAYEVENT:FALSE
SUMMARY:Ribbon Cutting - The Brass Tap
DESCRIPTION:Welcome The Brass Tap to Vacaville!
X-ALT-DESC;FMTTYPE=text/html:Welcome The Brass Tap to Vacaville!
LOCATION:783 Orange Drive\, Leisure Town Rd is nearest cross street
UID:e.1559.1799
SEQUENCE:3
DTSTAMP:20260421T095206Z
URL:https://business.vacavillechamber.com/events/details/ribbon-cutting-the-brass-tap-11-19-2015-1799
END:VEVENT

END:VCALENDAR
