BEGIN:VCALENDAR
VERSION:2.0
PRODID:-//ChamberMaster//Event Calendar 2.0//EN
METHOD:PUBLISH
X-PUBLISHED-TTL:P3D
REFRESH-INTERVAL:P3D
CALSCALE:GREGORIAN
BEGIN:VEVENT
DTSTART:20160722T003000Z
DTEND:20160722T013000Z
X-MICROSOFT-CDO-ALLDAYEVENT:FALSE
SUMMARY:Ribbon Cutting - Tails of the City
DESCRIPTION:Join us in celebrating with Tails of The City's Grooming! They've just remodeled and expanded their store and it looks terrific!
X-ALT-DESC;FMTTYPE=text/html:Join us in celebrating with&nbsp\;Tails of The City&#39\;s Grooming! They&#39\;ve just remodeled&nbsp\;and expanded their store and it looks terrific!
LOCATION:Tails of the City 807 Davis Street Vacaville
UID:e.1559.1886
SEQUENCE:3
DTSTAMP:20260420T234652Z
URL:https://business.vacavillechamber.com/events/details/ribbon-cutting-tails-of-the-city-07-21-2016-1886
END:VEVENT

END:VCALENDAR
