BEGIN:VCALENDAR
VERSION:2.0
PRODID:-//ChamberMaster//Event Calendar 2.0//EN
METHOD:PUBLISH
X-PUBLISHED-TTL:P3D
REFRESH-INTERVAL:P3D
CALSCALE:GREGORIAN
BEGIN:VEVENT
DTSTART:20160311T010000Z
DTEND:20160311T050000Z
X-MICROSOFT-CDO-ALLDAYEVENT:FALSE
SUMMARY:Ribbon Cutting- Sunrise Banquet Hall and Event Center
DESCRIPTION:Come join us at the Sunrise Banquet Hall and Event Center for their Grand Opening and Ribbon Cutting Event!
X-ALT-DESC;FMTTYPE=text/html:Come join us at the Sunrise Banquet Hall and Event Center for their Grand Opening and Ribbon Cutting Event!&nbsp\;
LOCATION:620 Orange Drive\, Vacaville
UID:e.1559.1817
SEQUENCE:3
DTSTAMP:20260421T044521Z
URL:https://business.vacavillechamber.com/events/details/ribbon-cutting-sunrise-banquet-hall-and-event-center-03-10-2016-1817
END:VEVENT

END:VCALENDAR
