BEGIN:VCALENDAR
VERSION:2.0
PRODID:-//ChamberMaster//Event Calendar 2.0//EN
METHOD:PUBLISH
X-PUBLISHED-TTL:P3D
REFRESH-INTERVAL:P3D
CALSCALE:GREGORIAN
BEGIN:VEVENT
DTSTART:20160429T180000Z
DTEND:20160429T190000Z
X-MICROSOFT-CDO-ALLDAYEVENT:FALSE
SUMMARY:Ribbon Cutting - Solar City
DESCRIPTION:Welcome Solar City to it's new location!
X-ALT-DESC;FMTTYPE=text/html:Welcome Solar City to it&#39\;s new location!
LOCATION:2059 E. Monte Vista Ave. Ste C Vacaville\, CA
UID:e.1559.1857
SEQUENCE:3
DTSTAMP:20260421T032602Z
URL:https://business.vacavillechamber.com/events/details/ribbon-cutting-solar-city-04-29-2016-1857
END:VEVENT

END:VCALENDAR
