BEGIN:VCALENDAR
VERSION:2.0
PRODID:-//ChamberMaster//Event Calendar 2.0//EN
METHOD:PUBLISH
X-PUBLISHED-TTL:P3D
REFRESH-INTERVAL:P3D
CALSCALE:GREGORIAN
BEGIN:VEVENT
DTSTART:20160928T001500Z
DTEND:20160928T011500Z
X-MICROSOFT-CDO-ALLDAYEVENT:FALSE
SUMMARY:Ribbon Cutting - SK Creative Arts
DESCRIPTION:Ribbon Cutting at SK Creative Arts is celebrating it's new location!\n\nJoin both Vacaville and Fairfield Chambers in showing your support.
X-ALT-DESC;FMTTYPE=text/html:Ribbon Cutting at SK Creative Arts is celebrating it&#39\;s new location!<br />\nJoin both Vacaville and Fairfield Chambers in showing your support.
LOCATION:SK Creative Arts 1113 Park Lane Suisun\, CA 94585
UID:e.1559.1909
SEQUENCE:3
DTSTAMP:20260420T210206Z
URL:https://business.vacavillechamber.com/events/details/ribbon-cutting-sk-creative-arts-1909
END:VEVENT

END:VCALENDAR
